BEGIN:VCALENDAR
VERSION:2.0
PRODID:-//Lavits - ECPv6.15.14//NONSGML v1.0//EN
CALSCALE:GREGORIAN
METHOD:PUBLISH
X-WR-CALNAME:Lavits
X-ORIGINAL-URL:https://lavits.org
X-WR-CALDESC:Eventos para Lavits
REFRESH-INTERVAL;VALUE=DURATION:PT1H
X-Robots-Tag:noindex
X-PUBLISHED-TTL:PT1H
BEGIN:VTIMEZONE
TZID:America/Sao_Paulo
BEGIN:STANDARD
TZOFFSETFROM:-0200
TZOFFSETTO:-0300
TZNAME:-03
DTSTART:20080217T020000
END:STANDARD
BEGIN:DAYLIGHT
TZOFFSETFROM:-0300
TZOFFSETTO:-0200
TZNAME:-02
DTSTART:20081019T030000
END:DAYLIGHT
BEGIN:STANDARD
TZOFFSETFROM:-0200
TZOFFSETTO:-0300
TZNAME:-03
DTSTART:20090215T020000
END:STANDARD
BEGIN:DAYLIGHT
TZOFFSETFROM:-0300
TZOFFSETTO:-0200
TZNAME:-02
DTSTART:20091018T030000
END:DAYLIGHT
BEGIN:STANDARD
TZOFFSETFROM:-0200
TZOFFSETTO:-0300
TZNAME:-03
DTSTART:20100221T020000
END:STANDARD
BEGIN:DAYLIGHT
TZOFFSETFROM:-0300
TZOFFSETTO:-0200
TZNAME:-02
DTSTART:20101017T030000
END:DAYLIGHT
BEGIN:STANDARD
TZOFFSETFROM:-0200
TZOFFSETTO:-0300
TZNAME:-03
DTSTART:20110220T020000
END:STANDARD
BEGIN:DAYLIGHT
TZOFFSETFROM:-0300
TZOFFSETTO:-0200
TZNAME:-02
DTSTART:20111016T030000
END:DAYLIGHT
BEGIN:STANDARD
TZOFFSETFROM:-0200
TZOFFSETTO:-0300
TZNAME:-03
DTSTART:20120226T020000
END:STANDARD
BEGIN:DAYLIGHT
TZOFFSETFROM:-0300
TZOFFSETTO:-0200
TZNAME:-02
DTSTART:20121021T030000
END:DAYLIGHT
BEGIN:STANDARD
TZOFFSETFROM:-0200
TZOFFSETTO:-0300
TZNAME:-03
DTSTART:20130217T020000
END:STANDARD
BEGIN:DAYLIGHT
TZOFFSETFROM:-0300
TZOFFSETTO:-0200
TZNAME:-02
DTSTART:20131020T030000
END:DAYLIGHT
BEGIN:STANDARD
TZOFFSETFROM:-0200
TZOFFSETTO:-0300
TZNAME:-03
DTSTART:20140216T020000
END:STANDARD
BEGIN:DAYLIGHT
TZOFFSETFROM:-0300
TZOFFSETTO:-0200
TZNAME:-02
DTSTART:20141019T030000
END:DAYLIGHT
BEGIN:STANDARD
TZOFFSETFROM:-0200
TZOFFSETTO:-0300
TZNAME:-03
DTSTART:20150222T020000
END:STANDARD
BEGIN:DAYLIGHT
TZOFFSETFROM:-0300
TZOFFSETTO:-0200
TZNAME:-02
DTSTART:20151018T030000
END:DAYLIGHT
BEGIN:STANDARD
TZOFFSETFROM:-0200
TZOFFSETTO:-0300
TZNAME:-03
DTSTART:20160221T020000
END:STANDARD
BEGIN:DAYLIGHT
TZOFFSETFROM:-0300
TZOFFSETTO:-0200
TZNAME:-02
DTSTART:20161016T030000
END:DAYLIGHT
BEGIN:STANDARD
TZOFFSETFROM:-0200
TZOFFSETTO:-0300
TZNAME:-03
DTSTART:20170219T020000
END:STANDARD
BEGIN:DAYLIGHT
TZOFFSETFROM:-0300
TZOFFSETTO:-0200
TZNAME:-02
DTSTART:20171015T030000
END:DAYLIGHT
END:VTIMEZONE
BEGIN:VEVENT
DTSTART;TZID=America/Sao_Paulo:20160322T080000
DTEND;TZID=America/Sao_Paulo:20160323T170000
DTSTAMP:20260424T053434
CREATED:20160315T014257Z
LAST-MODIFIED:20220623T014312Z
UID:10631-1458633600-1458752400@lavits.org
SUMMARY:Lavits convida para o evento: "As corporações na universidade: rumos da informação e do conhecimento"
DESCRIPTION:Nos dias 22 e 23 de março de 2016 o auditório da ADunicamp\, na Universidade Estadual de Campinas\, recebe debate e atividades do evento “As corporações na universidade: rumos da informação e do conhecimento”. \nA reunião abordará acordos recentes e pouco transparentes entre grupos privados e universidades. Também será discutido o Marco Legal de Ciência e Tecnologia e as conexões entre esses acordos\, transferência de dados da comunidade acadêmica e vigilância sobre informações. \nNa mesa de debates do dia 22\, que começa às 14h\, estarão Marta Kanashiro (Labjor/Unicamp e Rede Lavits)\, medidadora\, Rogerio Bezerra da Silva (Marco Legal) e Tel Amiel (NIED UNicamp)\, que falará sobre ferramentas abertas na educação e considerações sobre o acordo Google-Unicamp. \nNo dia 23 ocorre um cineclupe especial com o tema: “Vigilância estatal-corporativa e as revelações de Snowden: uma conversa sobre o documentário Citizen Four. A exibição começa às 18h30 e o debate se inicia às 20h30\, com Marta Kanashiro e Rafael Evangelista (Labjor/Unicamp e rede Lavits). \nA organização do evento é da ADunicamp com o apoio da Lavits e do Labjor/Unicamp.
URL:https://lavits.org/event/lavits-convida-para-o-evento-as-corporacoes-na-universidade-rumos-da-informacao-e-do-conhecimento/
ATTACH;FMTTYPE=image/jpeg:https://lavits.org/wp-content/uploads/2022/06/evento_lavits-400x280-1.jpeg
END:VEVENT
BEGIN:VEVENT
DTSTART;TZID=America/Sao_Paulo:20150817T080000
DTEND;TZID=America/Sao_Paulo:20150818T170000
DTSTAMP:20260424T053434
CREATED:20150823T014106Z
LAST-MODIFIED:20220623T014121Z
UID:10626-1439798400-1439917200@lavits.org
SUMMARY:Lavits realiza seminário “Intersecções entre pesquisa\, ação e tecnologia”
DESCRIPTION:Nos dias 17 e 18 de agosto ocorreu o IV Seminario Lavits – Intersecções entre Pesquisa\, Ação e Tecnologia. O encontro\, voltado para os pesquisadores da rede Lavits\, foi sediado no Laboratório de Estudos Avançados em Jornalismo (Labjor) da Unicamp\, em Campinas (SP). \nNo seminário foram discutidas as próximas ações da rede\, como o planejamento de encontros experimentais que devem percorrer\, em 2015 e 2016\, alguns países latinoamericanos\, a serem definidos até outubro deste ano. Ainda\, os pesquisadores Fernanda Bruno (UFRJ)\, Rosa Pedro (UFRJ)\, Rodrigo Firmino (PUCPR)\, Marta Kanashiro (UNICAMP)\, Rafael Evangelista (UNICAMP) e Henrique Parra (UNIFESP) apresentaram suas pesquisas em andamento. \nAs pesquisas de Fernanda Bruno que foram apresentadas estão relacionadas à cartografia da vigilância\, além da intersecção entre algoritmos\, controle e subjetividade e dimensões subjetivas da percepção da vigilância. Rosa Maria Pedro apresentou seu histórico de pesquisas relacionadas aos dispositivos de vigilância e como eles participam da composição da cidade e das políticas de segurança. Rodrigo Firmino problematizou as formas de territorialização e como as tecnologias da informação\, vigilância e controle produzem e moldam os territórios nas cidades. \nMarta Kanashiro enfatizou a relação entre Capitalismo e Informação\, e abordou a questão da legislação da privacidade\, que se mostra como um campo de disputas entre mercado e Estado. Ficou a indagação: as leis servem apenas para demarcar o território do estado e do mercado em relação aos dados pessoais? Rafael Evangelista apresentou suas pesquisas relacionadas à cibernética\, singularidade e fusão homem/máquina e à chamada economia da vigilância\, na qual a produção de valor ocorre a partir da coleta e tratamento de dados. Ainda\, Henrique Parra trouxe questionamentos sobre a relação entre tecnopolítica e saberes situados versus a ciência amadora e o desenvolvimento local\, além de tratar de ciência aberta. \nO seminário integra as atividades que compõem o projeto “Rede Latino-Americana de Estudos sobre Vigilância\, Tecnologia e Sociedade/LAVITS: interseções entre pesquisa\, ação e tecnologia”\, financiado pela Fundação Ford (Rio de Janeiro). O projeto busca dar visibilidade às possibilidades de monitoramento e vigilância presentes no uso das novas tecnologias de informação e comunicação\, com o intuito de “criar meios de cooperação entre grupos de pesquisa latino‐americanos e entre estes e a sociedade civil\, para que o conhecimento tanto teórico quanto empírico nestes domínios sejam desenvolvidos e debatidos não apenas no interior da universidade como também em outros campos sociais”. Conheça mais sobre o projeto aqui.
URL:https://lavits.org/event/lavits-realiza-seminario-interseccoes-entre-pesquisa-acao-e-tecnologia/
CATEGORIES:Seminários
ATTACH;FMTTYPE=image/jpeg:https://lavits.org/wp-content/uploads/2022/06/seminario-lavits-400x300-1.jpeg
END:VEVENT
BEGIN:VEVENT
DTSTART;TZID=America/Sao_Paulo:20150519T120000
DTEND;TZID=America/Sao_Paulo:20150519T170000
DTSTAMP:20260424T053434
CREATED:20150519T013829Z
LAST-MODIFIED:20220623T013851Z
UID:10623-1432036800-1432054800@lavits.org
SUMMARY:Fórum “Os novos horizontes da informação”
DESCRIPTION:No dia 19 de maio de 2015 ocorreu na Unicamp o Fórum “Os novos horizontes da informação”\, organizado por pesquisadores do Labjor e do grupo de pesquisa CTeMe (Conhecimento\, Tecnologia e Mercado do IFCH)\, com apoio da Coordenadoria Geral da Unicamp e da Rede Lavits. O objetivo do evento foi discutir questões relacionadas à informação\, abordando aspectos como produção\, circulação\, armazenamento e regulação.\nAtualmente a informação ocupa um papel central na sociedade\, e em torno dela giram disputas que envolvem poder econômico e político. Quem tem acesso a determinadas informações e quem não tem? Quem pode coletá-las e como? Quem as faz circular? Esses são alguns dos questionamentos que se apresentam\, e respondê-los é cada vez mais fundamental para a defesa da democracia e a construção de direitos. \nAs denúncias de Edward Snowden sobre a espionagem de governos e cidadãos realizada pela Agência Nacional de Segurança dos EUA e o vazamento de documentos sigilosos governamentais e de grandes corporações feitas por Julian Assange\, do Wikileaks\, são evidências do poder que a informação representa. \nNesse contexto\, o fórum debateu algumas das transformações recentes que ocorreram em áreas como comunicação\, direito\, economia e ciências sociais. O sociólogo David Lyon\, da Queen’s University\, do Canadá\, fará a conferência de abertura\, trazendo discussões sobre a presença da vigilância em nosso cotidiano. \nOs debates foram organizados em três mesas redondas. A primeira\, “Proteção de dados\, privacidade e criptografia”\, levantou questões sobre coleta\, armazenamento e monitoramento de dados pessoais\, temas em destaque no Brasil devido à recente discussão do anteprojeto de lei de proteção de dados pessoais. \nA segunda mesa\, “Vazamento de informação\, resistência e transparência”\, teve como intuito questionar as transformações na área da comunicação e do jornalismo\, a partir da discussão sobre os limites entre transparência e privacidade e\, de forma mais ampla\, as novas formas de resistência. \nPor fim\, a mesa “Informação\, valor\, prospecção e acumulação” pretendeu trazer à tona um outro aspecto: a compreensão da informação como valor econômico\, que atravessa o mundo do trabalho por um lado e que\, por outro\, constitui novas formas de prospecção e de ferramentas para geração de conhecimento.
URL:https://lavits.org/event/forum-os-novos-horizontes-da-informacao/
END:VEVENT
BEGIN:VEVENT
DTSTART;TZID=America/Sao_Paulo:20150513T080000
DTEND;TZID=America/Sao_Paulo:20150515T170000
DTSTAMP:20260424T053434
CREATED:20150513T110504Z
LAST-MODIFIED:20220623T010725Z
UID:10353-1431504000-1431709200@lavits.org
SUMMARY:III SIMPÓSIO LAVITS – Vigilância\, Tecnopolíticas e Territórios
DESCRIPTION:13 – 15 de Maio\, 2015. Rio de Janeiro\, Brasil\n  \n\nASSISTA AOS VÍDEOS DA CONFERÊNCIA [AQUI]\n\nCONFIRA OS ANAIS COMPLETOS [AQUI] \nVEJA A PROGRAMAÇÃO COMPLETA [AQUI] \n  \nO III Simpósio Internacional da Rede Latino-Americana de Estudos em Vigilância\, Tecnologia e Sociedade/LAVITS\, propõe como temática central as relações entre vigilância\, tecnopolíticas e territórios. No âmbito desta temática\, uma série de subtemas serão debatidos ao longo do Simpósio. \n\nVigilância\, Tecnopolíticas\, Territórios\n\n\nAs modulações da vigilância estão hoje atreladas a uma rede extremamente heterogênea de elementos atuantes em múltiplas escalas. Aparatos de vigilância de massa\, como os revelados por Edward Snowden\, conectam Estados e corporações; agências de segurança nacional e dados pessoais na Internet; espionagem de chefes de Estado e interesses de mercado; guerra ao terror e empresas do Big Data. \nTais dinâmicas da vigilância contemporânea nos levam a retomar a noção de território segundo diferentes níveis de questionamento. Discutir o território nesse contexto é também definir as condições de existência de indivíduos\, instituições\, corpos e subjetividades. Territórios informacionais\, urbanos\, subjetivos\, da produção ampliada de valor\, do comum\, entre outros\, são ora zona privilegiada\, ora zona de resistência às estratégias da vigilância e do controle. Ao mesmo tempo\, ações e reflexões no plano tecnopolítico vêm criando um campo fértil de táticas que contestam tais estratégias e exploram outros modos de habitar e agir coletivamente nas redes sociotécnicas contemporâneas. \nVigilância\, Tecnopolíticas e Territórios constituem assim a tríade de problemas que compõem o III Simpósio Internacional da Rede Latino-americana de Estudos em vigilância\, tecnologia e sociedade/LAVITS\, a ser realizado entre 13 e 15 de maio de 2015 no Rio de Janeiro. Tríade que afeta especialmente esta cidade\, no interstício de uma série de megaeventos que deixam como legado uma expressiva e renovada gama de tecnologias de segurança e vigilância. Além disso\, o Brasil e outros países latino-americanos vivem um ciclo de lutas e protestos em que a cidade e as redes de comunicação distribuída ocupam um lugar decisivo\, tornando fundamental a reflexão sobre vigilância\, tecnopolíticas e territórios em escala global e local.\nConvidamos pesquisadores\, professores\, ativistas e artistas a submeter resumos de trabalho ao III Simpósio Internacional LAVITS que\, no âmbito de sua temática geral\, propõe debater os seguintes temas-chave: \n\nBig Data\, vigilância e tecnopolítica\nVigilância\, protestos políticos e manifestações urbanas\nMegaeventos e vigilância\nWeb\, Deep Web e Internet das Coisas: rastreamento e vigilância\nAtivismo e contra-vigilância: criptografia\, hacktivismo\, tecnopolíticas\nPráticas artísticas e estéticas da vigilância\nTrabalho e Vigilância\nCorpo\, afeto e vigilância\nIdentificação\, biometria e vigilância\nCidades inteligentes e vigilância algorítmica\nVigilância móvel e wearable: drones\, GPS\, smartphones\, câmeras integradas etc.\nPrivacidade\, dados pessoais e controle da informação\nVigilância e práticas de consumo\nTecnologias de auto-monitoramento e controle\nHistórias\, memórias e arquivos da vigilância\nRegulação da vigilância e proteção de dados na América Latina\nSnowden\, NSA e vigilância de massa: impactos na América Latina\nVigilância e ditadura militar na América Latina\nMercado da vigilância na América Latina: conexões público-privado\nVigilância e Tecnopolítica na América Latina: conceitos\, metodologias e estudos de caso\nControle social\, território e vigilância na América Latina\n\n\n\n\n\n\nOrganização\n\n\nComissão Organizadora\n\nFernanda Bruno (UFRJ)\nRodrigo Firmino (PUCPR)\nMarta Kanashiro (UNICAMP)\nLucas Melgaço (VUB\, Bruxelas)\nNelson Arteaga Botello (FLACSO\, México)\nBruno Cardoso (UFRJ)\nRicardo Pimenta (IBICT)\nHenrique Parra (UNIFESP)\nRosa Pedro (UFRJ)\nRafael Evangelista (UNICAMP)\nPablo Ortellado (USP)\n\n\n\nApoio\n\n\n\nRede Latino-americana de Estudos em vigilância\, tecnologia e sociedade/LAVITS\nPrograma de Pós-graduação em Comunicação/UFRJ\nMediaLab.UFRJ\nPrograma de Pós Graduação em Psicologia/UFRJ\nInstituto de Filosofia e Ciências Sociais /UFRJ\nInstituto Brasileiro de Informação em Ciência e Tecnologia/IBICT\nPrograma de Pós-graduação em Ciência da Informação/IBICT-UFRJ\nPrograma de Pós Graduação em Gestão Urbana/PUCPR\nPrograma de Pós-graduação em Estudos Culturais/USP\nPrograma de Pós-Graduação em Divulgação Científica e Cultural do Laboratório de Jornalismo /UNICAMP\nPrograma de Pós-Graduação em Ciências Sociais/UNIFESP\nFacultad Latinoamericana de Ciencias Sociales/FLACSO\, México\nRede Latino-americana de Estudos em vigilância\, tecnologia e sociedade/LAVITS\nCRiS\, Crime and Society Research Group\, Department of Criminology\, Vrije Universiteit Brussel (VUB)\nGrupo de Pesquisa em Políticas Públicas para o Acesso à Informação/GPoPAI/USP\nFord Foundation\nComitê Gestor da Internet no Brasil\nNúcleo de Coordenação e informação do Ponto BR\nOpen Knowledge Brasil
URL:https://lavits.org/event/iii-simposio-lavits-vigilancia-tecnopoliticas-e-territorios/
CATEGORIES:Simpósios
ATTACH;FMTTYPE=image/gif:https://lavits.org/wp-content/uploads/2022/06/lavits2015.gif
END:VEVENT
BEGIN:VEVENT
DTSTART;TZID=America/Sao_Paulo:20100316T080000
DTEND;TZID=America/Sao_Paulo:20100318T170000
DTSTAMP:20260424T053434
CREATED:20100316T104842Z
LAST-MODIFIED:20220623T010734Z
UID:10311-1268726400-1268931600@lavits.org
SUMMARY:II Simpósio Internacional Vigilância na América Latina
DESCRIPTION:Simpósio Internacional \n“Identificação\, identidade e vigilância na América Latina” \nUniversidad Autónoma del Estado de México \nFacultad de Ciencias Políticas y sociales \nToluca\, Estado de México\, México \n16\, 17 e 18 de Março de 2010 \n Mais informações: https://sites.google.com/site/idsurveillancemexico/ \n  \nIntrodução \nEm sociedades modernas\, sistemas de identificação têm sido utilizados como um importante mecanismo para governar\, gerenciar\, classificar e controlar a população; em outras palavras\, para vigiá-la. Isso tem implicado no uso de certas tecnologias (passaportes\, cartões de identificação nacionais\, RFID\, entre outras)\, disponibilizando à sistemas de bases de dados interconectados informações relacionadas a protocolos institucionais específicos. Neste sentido\, definimos identificação como visibilidade e verificação de detalhes específicos das vidas das pessoas. Da mesma forma\, esses sistemas de identificação têm executado várias funções: segurança\, controle migratório\, gestão de bens e serviços\, bem como o controle de acesso a territórios\, espaços e grupos. \n  \nIndubitavelmente\, o contexto histórico\, social e político denunciam os propósitos específicos a que responde cada sistema de identificação. Na América Latina\, fatores como décadas de governos militares ou unipartidários\, do crescimento de sociedades e cidades multiculturais\, do aumento de correntes migratórias\, do aumento de riscos terroristas\, de segurança pública e de saúde\, assim como a criação de políticas públicas (contra a pobreza ou desemprego) e a emergência da globalização\, têm incentivado a instalação de grandes sistemas de vigilância para a identificação da população. \n  \nEssas condições têm propiciado a articulação e integração de instituições\, corporações\, tecnologias e protocolos de identificação no território latino-americano\, dependendo de cada país ou região\, assim como as relações com outras regiões do mundo. Assim\, o ambiente da América Latina também permite traçar linhas de análise na direção da construção de identidades\, privacidade\, de formas de governo e a possibilidade de políticas de resistência\, em outras palavras\, de como esses sistemas de identificação têm sido adotados. \n  \nComissão Organizadora \nNelson Arteaga Botello \nRoberto J. Fuentes Rionda \nFacultad de Ciencias Políticas y Sociales \nUniversidad Autónoma del Estado de México\, México \n  \nRodrigo Firmino \nPrograma de Pós-Graduação em Gestão Urbana \nPontifícia Universidade Católica do Paraná\, Curitiba\, Brasil \n  \nFernanda Bruno \nPrograma de Pós-Graduação em Comunicação e Cultura \nUniversidade Federal do Río de Janeiro\, Brasil \n  \nMarta Kanashiro \nLaboratório de Estudos Avançados em Jornalismo e Grupo Conhecimento\, Tecnologia e Mercado \nUniversidade Estadual de Campinas (UNICAMP)\, Campinas\, Brasil. \n  \nDanilo Doneda \nFacultade de Direito de Campos\, Rio de Janeiro\, Brasil \n  \nAndré Lemos \nUniversidade Federal da Bahia\, Brasil \n  \nCom apoio de: \nDavid Lyon \nQueen’s University\, Kingston\, Ontario\, Canadá \n  \nDavid Murakami Wood \nGlobal Urban Research Unit\, Newcastle University\, UK
URL:https://lavits.org/event/10311/
CATEGORIES:Simpósios
ATTACH;FMTTYPE=image/png:https://lavits.org/wp-content/uploads/2022/06/II-simposio_mexico.png
END:VEVENT
BEGIN:VEVENT
DTSTART;TZID=America/Sao_Paulo:20090301T080000
DTEND;TZID=America/Sao_Paulo:20090303T170000
DTSTAMP:20260424T053434
CREATED:20090411T102140Z
LAST-MODIFIED:20220611T105847Z
UID:10302-1235894400-1236099600@lavits.org
SUMMARY:I SIMPÓSIO INTERNACIONAL LAVITS: Vigilância\, Segurança e Controle Social
DESCRIPTION:  \nO simpósio\, considerado o primeiro deste tipo a acontecer na Amárica Latina\, aconteceu em Curitiba\, na PUCPR\, em março de 2009. Trinta e três artigos foram apresentados em português\, espanhol e inglês\, no que se configurou como a primeira tentativa bem sucedida de formação de uma rede latino-americana de estudos sobre vigilância. Dentre os palestrantes convidados estavam pesquisadores notórios como: David Lyon (Queen’s University)\, Nelson Arteaga Botello (UAEMex)\, David Murakami Wood (Newcastle University) e Luis Antonio Machado da Silva (IUPERJ). \nApós o evento\, Rodrigo Firmino (PPGTU/PUCPR)\, Fernanda Bruno (Eco-Pós/UFRJ)\, Marta Kanashiro (LabJor/UNICAMP)\, Nelson Arteaga Botello\, Danilo Doneda (FDC) e André Lemos (UFBa)\, com a ajuda de David Lyon e David Murakami Wood\, reuniram-se para definir a formação da rede latino-americana. Portanto\, este simpósio marcou o início de um novo tempo para os relacionamentos acadêmicos e profissionais sobre estudos de vigilância entre países da America Latina. Os anais são o testemunho deste importante momento\, e estão disponíveis gratuitamente neste site. Veja um interessante depoimento pós-evento por David Murakami Wood em seu Blog “notes from the ubiquitous surveillance society”:\nSurveillance in Latin America \nNelson Arteaga Botello está agora à frente da organização do próximo evento\, a acontecer no México\, hospedado pela Universidad Autonoma del Estado de Mexico\, em 2010. \nContexto\nVigilância tem se tornado um tema importante para as ciências sociais\, e os Estudos sobre Vigilância (Surveillance Studies) uma importante área interdisciplinar de pesquisa. Entretanto\, este assunto permanece dominado por perspectivas do hemisfério norte. O conceito de uma ‘sociedade da vigilância’ vem sendo desenvolvido sobretudo em países da Europa e América do Norte\, mas ainda é pouco observado ou explorado além dessas regiões\, mesmo que os países do hemisfério sul sejam lugares onde vigilância e controle social também apresentem impactos diretos e viscerais na vida das pessoas. \nNa América Latina\, em especial\, as práticas e tecnologias de vigilância têm tido um efeito incisivo que traz elementos da história recente\, com vários países tendo experimentado longos períodos de regimes autoritários e anos de lutas violentas entre ideologias distintas\, cada uma equacionando formas de controle em diferentes áreas de influência. Esses períodos deixaram um legado que se faz sentir nas práticas dos serviços de segurança e em sua relação com o Estado\, e na instabilidade que ocorre em vários países da região. \nAo mesmo tempo\, uma vertente de monitoramento estrangeiro significativa\, com intervenções diretas e indiretas\, especialmente da parte dos Estados Unidos\, tem imposto uma camada adicional de vigilância e controle a esses países. Este ainda é um aspecto crucial em temas como a ‘guerra contra as drogas’ na Colômbia e América Central\, o controle de movimentos populacionais\, particularmente as ondas de imigração para os EUA\, e as disputas político-ecológicas na região amazônica. Recentemente\, com novas tecnologias de vigilância urbana\, especialmente vídeo-vigilância e bancos de dados eletrônicos\, órgãos públicos e instituições privadas têm se envolvido com novas formas de vigilância e controle\, justificadas pela crescente preocupação da classe média com o crime\, os efeitos de um terrorismo regional e internacional\, e a ‘guerra contra o terrorismo’. \nCom a participação de pesquisadores\, analistas e ativistas da América Latina e outras partes do mundo\, este simpósio objetiva debater criticamente o passado\, o presente e as possibilidades futuras da vigilância\, segurança e controle social na região dos países latino-americanos\, além de procurar estabelecer um campo fecundo de questões-chave para a pesquisa e políticas públicas. \nComissão Organizadora:\nDr Rodrigo Firmino\n[Programa de Pós-Graduação em Gestão Urbana\, Pontifícia Universidade Católica do Paraná (PUCPR)\, Curitiba\, Brasil]\nDr Fernanda Bruno\n[Programa de Pós-Graduação em Comunicação e Cultura\, Universidade Federal do Rio de Janeiro (UFRJ)\, Rio de Janeiro\, Brasil]\nMarta Kanashiro\n[Laboratório de Estudos Avançados em Jornalismo e Grupo Conhecimento\, Tecnologia e Mercado\, Universidade Estadual de Campinas (UNICAMP)\, Campinas\, Brasil]\nDr Nelson Arteaga Botello\n[Facultad de Ciencias Políticas y Administración Pública de la Universidad Autónoma del Estado de México]\nDr David Murakami Wood\n[Global Urban Research Unit\, Newcastle University\, Reino Unido\, Professor Visitante da Pontifícia Universidade Católica do Paraná] \nDOWNLOAD DOS ANAIS [CLIQUE AQUI] \n 
URL:https://lavits.org/event/i-simposio-internacional-lavits-vigilancia-seguranca-e-controle-social/
CATEGORIES:Simpósios
ATTACH;FMTTYPE=image/png:https://lavits.org/wp-content/uploads/2022/06/SIMPOSIO-1-PORTUGUES.png
END:VEVENT
END:VCALENDAR